BEGIN:VCALENDAR
VERSION:2.0
PRODID:-//Vogelwerkgroep Fruitstreek - ECPv6.6.4.2//NONSGML v1.0//EN
CALSCALE:GREGORIAN
METHOD:PUBLISH
X-ORIGINAL-URL:https://www.vogelwerkgroepfruitstreek.be
X-WR-CALDESC:Evenementen voor Vogelwerkgroep Fruitstreek
REFRESH-INTERVAL;VALUE=DURATION:PT1H
X-Robots-Tag:noindex
X-PUBLISHED-TTL:PT1H
BEGIN:VTIMEZONE
TZID:UTC
BEGIN:STANDARD
TZOFFSETFROM:+0000
TZOFFSETTO:+0000
TZNAME:UTC
DTSTART:20190101T000000
END:STANDARD
END:VTIMEZONE
BEGIN:VEVENT
DTSTART;TZID=UTC:20190702T193000
DTEND;TZID=UTC:20190702T203000
DTSTAMP:20260423T235743
CREATED:20190517T174701Z
LAST-MODIFIED:20190629T094621Z
UID:3273-1562095800-1562099400@www.vogelwerkgroepfruitstreek.be
SUMMARY:Webinar natuurpunt Zwaluwen & Gierzwaluwen
DESCRIPTION:Webinar – Zwaluwen & Gierzwaluwen\n\n\n\n\n\n\n\n\n\n\n\n\n\n\n\n\nSteeds weer is het in de winter uitkijken naar de komst van de zwaluwen en de prachtige luchtshow van deze acrobaten. In deze webinar worden portretten geschetst van Boeren-\, Huis- en Oeverzwaluw. Ook de Gierzwaluw (die geen zwaluw is) komt aan bod. Naast boeiende weetjes over hun gedrag komt ook bescherming aan bod.\n\n\n\nInschrijven\nSchrijf je op voorhand in via de link onderaan deze pagina. Je krijgt meteen een email ter bevestiging (waarschijnlijk in je map ongewenste email). Een uur voor aanvang krijg je een email ter herinnering. Achteraf krijg je een email met daarin een evaluatieformulier en de link om te herbekijken. Om kwaliteit te garanderen werken we met een maximum van 1000 inschrijvingen.\nPraktisch\nWat is een webinar? Een live online lezing: je hoort en ziet de spreker en kan vragen stellen via de chat.\nHoe? Vanuit je zetel thuis via internet op je eigen pc\, laptop of tablet.\nTip: bekijk vooraf onze Veelgestelde vragen\n\n\nWanneer : 2/7/2019 van 19u30 tot 20u30  Afspraakplaats  thuis achter je computer\n\n\nBegeleider Koen Leysen\n\n\n>> Ik wil me inschrijven voor deze webinar <<
URL:https://www.vogelwerkgroepfruitstreek.be/event/webinar-natuurpunt-zwaluwen-gierzwaluwen/
CATEGORIES:Cursus
ATTACH;FMTTYPE=image/jpeg:https://www.vogelwerkgroepfruitstreek.be/wp-content/uploads/2019/05/gierzwaluw.jpg
END:VEVENT
END:VCALENDAR